BEGIN:VCALENDAR
VERSION:2.0
PRODID:-//Jeu de Paume de Paris - ECPv6.5.1.4//NONSGML v1.0//EN
CALSCALE:GREGORIAN
METHOD:PUBLISH
X-ORIGINAL-URL:https://squashjeudepaume.com
X-WR-CALDESC:évènements pour Jeu de Paume de Paris
REFRESH-INTERVAL;VALUE=DURATION:PT1H
X-Robots-Tag:noindex
X-PUBLISHED-TTL:PT1H
BEGIN:VTIMEZONE
TZID:Europe/Paris
BEGIN:DAYLIGHT
TZOFFSETFROM:+0100
TZOFFSETTO:+0200
TZNAME:CEST
DTSTART:20240331T010000
END:DAYLIGHT
BEGIN:STANDARD
TZOFFSETFROM:+0200
TZOFFSETTO:+0100
TZNAME:CET
DTSTART:20241027T010000
END:STANDARD
END:VTIMEZONE
BEGIN:VEVENT
DTSTART;TZID=Europe/Paris:20241018T000000
DTEND;TZID=Europe/Paris:20241018T235959
DTSTAMP:20260417T105446
CREATED:20240807T142955Z
LAST-MODIFIED:20240807T142956Z
UID:10000091-1729209600-1729295999@squashjeudepaume.com
SUMMARY:Raquette de Bronze
DESCRIPTION:
URL:https://squashjeudepaume.com/evenement/raquette-de-bronze/
CATEGORIES:Paume
ATTACH;FMTTYPE=image/jpeg:https://squashjeudepaume.com/wp-content/uploads/2024/08/Raquettes-chasses-scaled.jpg
END:VEVENT
END:VCALENDAR