BEGIN:VCALENDAR
VERSION:2.0
PRODID:-//Jeu de Paume de Paris - ECPv6.5.1.4//NONSGML v1.0//EN
CALSCALE:GREGORIAN
METHOD:PUBLISH
X-ORIGINAL-URL:https://squashjeudepaume.com
X-WR-CALDESC:évènements pour Jeu de Paume de Paris
REFRESH-INTERVAL;VALUE=DURATION:PT1H
X-Robots-Tag:noindex
X-PUBLISHED-TTL:PT1H
BEGIN:VTIMEZONE
TZID:Europe/Paris
BEGIN:DAYLIGHT
TZOFFSETFROM:+0100
TZOFFSETTO:+0200
TZNAME:CEST
DTSTART:20240331T010000
END:DAYLIGHT
BEGIN:STANDARD
TZOFFSETFROM:+0200
TZOFFSETTO:+0100
TZNAME:CET
DTSTART:20241027T010000
END:STANDARD
END:VTIMEZONE
BEGIN:VEVENT
DTSTART;TZID=Europe/Paris:20240924T200000
DTEND;TZID=Europe/Paris:20240924T233000
DTSTAMP:20260417T124826
CREATED:20240909T171956Z
LAST-MODIFIED:20240910T144437Z
UID:10000101-1727208000-1727220600@squashjeudepaume.com
SUMMARY:Opening Cocktail du French Open 2024
DESCRIPTION:Description\n\n\n\nPour la première fois sur notre historique terrain de jeu de paume\, nous organisons une soirée exceptionnelle à l’occasion de l’Opening Cocktail du French Open 2024 !Venez profiter d’une soirée inoubliable\, animée par un DJ\, avec un spectacle de son et lumières dans un cadre exceptionnel. C’est l’occasion idéale pour échanger et passer un moment convivial en compagnie d’autres partenaires\, amis et invités.L’entrée est à 10€\, incluant une boisson offerte.  \n\n\n\nOuvert à tous\, vous pouvez inviter vos amis\, vos collègues\, et plus encore ! \n\n\n\nDress code : casual // PAS DE TALONS (cela peut abimer le revêtement du terrain). Nous espérons vous compter parmi nous pour cet événement exceptionnel.Au plaisir de vous voir!
URL:https://squashjeudepaume.com/evenement/opening-cocktail-du-french-open-2024/
CATEGORIES:Paume
ATTACH;FMTTYPE=image/png:https://squashjeudepaume.com/wp-content/uploads/2024/06/paume.png
END:VEVENT
END:VCALENDAR