BEGIN:VCALENDAR
VERSION:2.0
PRODID:-//Jeu de Paume de Paris - ECPv6.5.1.4//NONSGML v1.0//EN
CALSCALE:GREGORIAN
METHOD:PUBLISH
X-WR-CALNAME:Jeu de Paume de Paris
X-ORIGINAL-URL:https://squashjeudepaume.com
X-WR-CALDESC:évènements pour Jeu de Paume de Paris
REFRESH-INTERVAL;VALUE=DURATION:PT1H
X-Robots-Tag:noindex
X-PUBLISHED-TTL:PT1H
BEGIN:VTIMEZONE
TZID:Europe/Paris
BEGIN:DAYLIGHT
TZOFFSETFROM:+0100
TZOFFSETTO:+0200
TZNAME:CEST
DTSTART:20240331T010000
END:DAYLIGHT
BEGIN:STANDARD
TZOFFSETFROM:+0200
TZOFFSETTO:+0100
TZNAME:CET
DTSTART:20241027T010000
END:STANDARD
END:VTIMEZONE
BEGIN:VEVENT
DTSTART;TZID=Europe/Paris:20240112T080000
DTEND;TZID=Europe/Paris:20240114T170000
DTSTAMP:20260422T195715
CREATED:20230714T142334Z
LAST-MODIFIED:20231031T180638Z
UID:10000045-1705046400-1705251600@squashjeudepaume.com
SUMMARY:Coupe de Thélème 2023
DESCRIPTION:La Coupe de Thélème est un tournoi en simple par niveau. Il est limité aux 16 entrants qui ont un handicap inférieur à 20\, amateurs ou professionnels. Si moins de 16 joueurs sont inscrits\, des joueurs avec un handicap supérieur à 20 pourront être considéré. \nLe lien d’inscription ici.
URL:https://squashjeudepaume.com/evenement/coupe-de-theleme-2023/
CATEGORIES:Paume
END:VEVENT
END:VCALENDAR