BEGIN:VCALENDAR
VERSION:2.0
PRODID:-//Jeu de Paume de Paris - ECPv6.5.1.4//NONSGML v1.0//EN
CALSCALE:GREGORIAN
METHOD:PUBLISH
X-WR-CALNAME:Jeu de Paume de Paris
X-ORIGINAL-URL:https://squashjeudepaume.com
X-WR-CALDESC:évènements pour Jeu de Paume de Paris
REFRESH-INTERVAL;VALUE=DURATION:PT1H
X-Robots-Tag:noindex
X-PUBLISHED-TTL:PT1H
BEGIN:VTIMEZONE
TZID:Europe/Paris
BEGIN:DAYLIGHT
TZOFFSETFROM:+0100
TZOFFSETTO:+0200
TZNAME:CEST
DTSTART:20230326T010000
END:DAYLIGHT
BEGIN:STANDARD
TZOFFSETFROM:+0200
TZOFFSETTO:+0100
TZNAME:CET
DTSTART:20231029T010000
END:STANDARD
END:VTIMEZONE
BEGIN:VEVENT
DTSTART;TZID=Europe/Paris:20231215T080000
DTEND;TZID=Europe/Paris:20231216T170000
DTSTAMP:20260422T214322
CREATED:20230710T142153Z
LAST-MODIFIED:20231211T132926Z
UID:10000043-1702627200-1702746000@squashjeudepaume.com
SUMMARY:Tournoi de Noël 2023
DESCRIPTION:Conditions d’inscription\n\n\n\nLe tournoi de Noël est un tournoi convivial et familial en handicap de double ouvert à tous les joueurs. \n\n\n\nCette année\, un format original avec des poules qui seront jouées tout au long de la semaine du 11 décembre.  \n\n\n\nChaque soir des équipes s’affronteront pour être en tête de leur poule et tenter de se qualifier pour les demies finales et la finale du samedi matin.  \n\n\n\nLes demies finales et la finale seront jouées le samedi matin. \n\n\n\nLes matchs de la semaine seront arbitrés par les joueurs et ceux du samedi par Neil Mackenzie.  \n\n\n\nPour les matchs\, surtout du samedi matin\, sortez vos plus beaux pull ou tenue de Noël ! Vert\, rouge… Un écart rare au blanc! \n\n\n\ntype de tournoi : double handicap \n\n\n\nprix : 40€ (brunch et apéritif après les phases de poule).  \n\n\n\nLe même jour vous aurez :  \n\n\n\n\nBrunch de Noël (inscrivez-vous ici. Merci d’indiquer si vous venez avec +1 ou 2!)\n\n\n\nTournoi member guest squash : l’occasion de venir avec un ami / sa compagne ou son compagnon et de les initier au squash (gratuit si vous participez au brunch!)\n\n\n\nFinale du tournoi interne de squash : qui gravera son nom sur le mur ?!
URL:https://squashjeudepaume.com/evenement/tournoi-de-noel-2023/
CATEGORIES:Paume
END:VEVENT
END:VCALENDAR