BEGIN:VCALENDAR
VERSION:2.0
PRODID:-//Jeu de Paume de Paris - ECPv6.5.1.4//NONSGML v1.0//EN
CALSCALE:GREGORIAN
METHOD:PUBLISH
X-WR-CALNAME:Jeu de Paume de Paris
X-ORIGINAL-URL:https://squashjeudepaume.com
X-WR-CALDESC:évènements pour Jeu de Paume de Paris
REFRESH-INTERVAL;VALUE=DURATION:PT1H
X-Robots-Tag:noindex
X-PUBLISHED-TTL:PT1H
BEGIN:VTIMEZONE
TZID:Europe/Paris
BEGIN:DAYLIGHT
TZOFFSETFROM:+0100
TZOFFSETTO:+0200
TZNAME:CEST
DTSTART:20230326T010000
END:DAYLIGHT
BEGIN:STANDARD
TZOFFSETFROM:+0200
TZOFFSETTO:+0100
TZNAME:CET
DTSTART:20231029T010000
END:STANDARD
END:VTIMEZONE
BEGIN:VEVENT
DTSTART;TZID=Europe/Paris:20231124T080000
DTEND;TZID=Europe/Paris:20231126T170000
DTSTAMP:20260422T233231
CREATED:20230708T142104Z
LAST-MODIFIED:20231121T162120Z
UID:10000042-1700812800-1701018000@squashjeudepaume.com
SUMMARY:Raquette d'Argent 2023
DESCRIPTION:Créée en 1899 pour les joueurs et joueuses avec un handicap entre 20 et 30.La Raquette d’argent est un tournoi organisé par le Comité Français de Courte Paume\, vous trouverez tous les détails de l’inscription ici. \n\nTableau Principal Simple\n\n\nTous les matchs du tableau principal seront joués en 2 sets gagnants. \n\n\n\n\n\n\nTableau Principal double\n\n\nTous les matchs du tableau principal seront joués en 2 sets gagnants. \n\n\n\n\n\n\nPlateau\n\n\nTous les matchs du tableau principal seront joués en 8 sets gagnants\, sauf la finale qui sera jouée en 10 jeux gagnants  \n\n\n\n\n\n\n\n\n\nRaquette d’Argent (2e Série)\n\nAnnéeVainqueur1899William Bazin1900William Bazin1901Albert de Luze1902Alfred de Vial1903Comte de L’Aigle1904Comte de L’Aigle1905Comte de L’Aigle1906Hewitt Morgan1907Comte de L’Aigle1908Comte de L’Aigle1909Comte de L’Aigle1910Comte de L’Aigle1911Comte de L’Aigle1912Comte de L’Aigle1913Jacques Worth1914Jacques Worth1915Non disputée1916Non disputée1917Non disputée1918Non disputée1919Non disputée1920Daniel Gounouilhou1921Daniel Gounouilhou1922Joseph Loubet1923Joseph Loubet1924Laurent d’Andurain1925François Blanchy1926William Bazin1927Non disputée1928Jean de Clouet1929Jean de Clouet1930Daniel Gounouilhou1931Laurent d’Andurain1932Anthony Joseph Drexel Biddle Jr.1933Anthony Joseph Drexel Biddle Jr.1934Yann Le Quellec1935Marcel Dupont1936Ronald Barton1937J.L. Aslangul1938Marcel Dupont1939Non disputée1940Non disputée1941Non disputée1942Non disputée1943Non disputée1944Non disputée1945Non disputée1946Marcel Dupont1947Marcel Dupont1948Marcel Dupont1949Marcel Dupont1950Non disputée1951Non disputée1952Non disputée1953Non disputée1954Ludovic Maurice1955Ravet de Marbraix1956Hervé Faugère1957Non disputée1958Jacques Strauss1959René Diani1960Cel J. W. Gerard1961J. David-Chausse1962Marcel Peuvrel1963Adam Lawrence1964Ravet de Marbraix1965Ravet de Marbraix1966Hervé Faugère1967Arthur Lee1968Hervé Faugère1969Claude Ricard1970Claude Ricard1971Claude Ricard1972Claude Ricard1973Bertrand Sarlangue1974Peïo Sarlangue1975Peïo Sarlangue1976Peïo Sarlangue1977Peïo Sarlangue1978Bernard Rougé1979Claude Ricard1980Peïo Sarlangue1981Peïo Sarlangue1982Donald Newman1983Albert Hahn1984Peïo Sarlangue1985Denis Grozdanovitch1986Christophe Chueca1987Xavier Masip1988Jean-Guillaume Prats1989J.-G. Prats1990J.-G. Prats1991J.-G. Prats1992J.-G. Prats1993J.-G. Prats1994J.-G. Prats1995Xavier Masip1996Xavier Masip1997Guillaume Ruault-Barclay1998Rachid Dahmi1999Xavier Masip2000Charles Blanchot2001Nicolas Victoir2002Olivier Michel2003Cyrille Philippe2004Nicolas Dumont2005Cyrille Philippe2006Thierry Aubertin2007Jean-Philippe Grabli2008Quint Mandil2009Anthony Gaudin2010Charles Blanchot2011Charles Blanchot2012Antoine Dubrulle2013Olivier Walter2014Quint Mandil2015Guillaume Dortu2016Non disputée2017Vincent Letonturier2018Nicolas Planty2019Julien Tizot2020Non disputée
URL:https://squashjeudepaume.com/evenement/raquette-dargent/
CATEGORIES:Paume
END:VEVENT
END:VCALENDAR