BEGIN:VCALENDAR
VERSION:2.0
PRODID:-//Jeu de Paume de Paris - ECPv6.5.1.4//NONSGML v1.0//EN
CALSCALE:GREGORIAN
METHOD:PUBLISH
X-ORIGINAL-URL:https://squashjeudepaume.com
X-WR-CALDESC:évènements pour Jeu de Paume de Paris
REFRESH-INTERVAL;VALUE=DURATION:PT1H
X-Robots-Tag:noindex
X-PUBLISHED-TTL:PT1H
BEGIN:VTIMEZONE
TZID:Europe/Paris
BEGIN:DAYLIGHT
TZOFFSETFROM:+0100
TZOFFSETTO:+0200
TZNAME:CEST
DTSTART:20240331T010000
END:DAYLIGHT
BEGIN:STANDARD
TZOFFSETFROM:+0200
TZOFFSETTO:+0100
TZNAME:CET
DTSTART:20241027T010000
END:STANDARD
END:VTIMEZONE
BEGIN:VEVENT
DTSTART;TZID=Europe/Paris:20241207T000000
DTEND;TZID=Europe/Paris:20241208T235959
DTSTAMP:20260419T235328
CREATED:20240807T145805Z
LAST-MODIFIED:20241203T092227Z
UID:10000097-1733529600-1733702399@squashjeudepaume.com
SUMMARY:Championnat France > 50 double
DESCRIPTION:C’est avec grand plaisir que nous vous annonçons l’ouverture des inscriptions pour le \, NATIONAL AMATEUR DOUBLES PLUS 50 ÂGE qui se déroulera du 7/8 Décembre à Paris \n\n\n\nCe tournoi est réservé pour le 10 meilleur équipes  sur handicap.. C’est l’occasion idéale de se mesurer à des joueurs de haute niveau plus 50ans ! \n\n\n\nTous les matchs se joueront en 2 sets gagnants\,\, histoire que tout le monde profite au max du week-end ! \n\n\n\nProgramme : \n\n\n\n\nDébut des matchs le samedi matin\, bar ouvert pour apéro tout le week-end\n\n\n\nDemi finals dimanche 9-12h matin arbitrage par Rod \, pause pour déjeuner et 14h Final\n\n\n\n\n>50 \n\n\n\n\n\n\n\n>60 \n\n\n\n\n\n\n\nOn compte sur vous pour venir nombreux et faire de ce tournoi un grand moment. À très bientôt sur les courts ! \n\n\n\nSportivement\, \n\n\n\nL’équipe du Jeu de Paume
URL:https://squashjeudepaume.com/evenement/championnat-france-simple-50/
CATEGORIES:Paume
ATTACH;FMTTYPE=image/jpeg:https://squashjeudepaume.com/wp-content/uploads/2023/03/Balles-scaled-1.jpg
END:VEVENT
BEGIN:VEVENT
DTSTART;TZID=Europe/Paris:20241214T000000
DTEND;TZID=Europe/Paris:20241214T235959
DTSTAMP:20260419T235328
CREATED:20240807T144308Z
LAST-MODIFIED:20241212T163843Z
UID:10000094-1734134400-1734220799@squashjeudepaume.com
SUMMARY:Tournoi de Noël
DESCRIPTION:La journée se déroulera en deux groupes : un le matin et un l’après-midi. \n\n\n\nEt pour cette occasion spéciale\, une exception unique : vous pourrez ranger vos tenues blanches habituelles et revêtir vos plus beaux pulls de Noël pour jouer dans l’esprit festif de cette journée ! \n\n\n\nPour les frais d’inscription\, ils sont à régler sur ce lien. L’inscription à ce tournoi est considérée comme un don\, un reçu fiscal vous sera envoyé automatiquement équivalent à 66% du montant déductible de vos impôts. Cette année\, le montant récolté servira à un investissement pour les douches du club\, notamment la partie chaufferie.  \n\n\n\nLe don est à faire sur ce lien.
URL:https://squashjeudepaume.com/evenement/tournoi-de-noel/
CATEGORIES:Paume
ATTACH;FMTTYPE=image/jpeg:https://squashjeudepaume.com/wp-content/uploads/2024/08/Raquettes-chasses-scaled.jpg
END:VEVENT
END:VCALENDAR