BEGIN:VCALENDAR
VERSION:2.0
PRODID:-//Jeu de Paume de Paris - ECPv6.5.1.4//NONSGML v1.0//EN
CALSCALE:GREGORIAN
METHOD:PUBLISH
X-ORIGINAL-URL:https://squashjeudepaume.com
X-WR-CALDESC:évènements pour Jeu de Paume de Paris
REFRESH-INTERVAL;VALUE=DURATION:PT1H
X-Robots-Tag:noindex
X-PUBLISHED-TTL:PT1H
BEGIN:VTIMEZONE
TZID:Europe/Paris
BEGIN:DAYLIGHT
TZOFFSETFROM:+0100
TZOFFSETTO:+0200
TZNAME:CEST
DTSTART:20250330T010000
END:DAYLIGHT
BEGIN:STANDARD
TZOFFSETFROM:+0200
TZOFFSETTO:+0100
TZNAME:CET
DTSTART:20251026T010000
END:STANDARD
END:VTIMEZONE
BEGIN:VEVENT
DTSTART;TZID=Europe/Paris:20251117T000000
DTEND;TZID=Europe/Paris:20251214T235959
DTSTAMP:20260419T085835
CREATED:20250722T103712Z
LAST-MODIFIED:20251110T143306Z
UID:10000119-1763337600-1765756799@squashjeudepaume.com
SUMMARY:Tournoi interne
DESCRIPTION:Description\n\nQui inscrira son nom sur le mur cette année ?Chaque année\, ce challenge nous réunit autour de notre passion commune! Ouvert à tous les membres\, quel que soit le niveau\, ce tournoi promet des confrontations passionnantes. Chaque participant disputera entre 5 et 6 matchs. Afin d’assurer un bon déroulement\, nous demandons à chacun de vérifier ses disponibilités. Comptez entre 1 et 2 matchs par semaine.1er tour du 17 au 23 novembre2eme tour du 24 au 29 novembre3eme tour du 29 au 4 décembreQuart de finale le 8 décembre a partir de 18h00Demi final 11 décembre a partir 18h45Finale le 13 décembre à 11h  \n\n\nChargement…
URL:https://squashjeudepaume.com/evenement/tournoi-interne-2/
CATEGORIES:Squash
ATTACH;FMTTYPE=image/png:https://squashjeudepaume.com/wp-content/uploads/2024/08/Copie-de-offre-pro-squash.png
END:VEVENT
END:VCALENDAR